BEGIN:VCALENDAR
VERSION:2.0
PRODID:-//Rainbow Ridge - ECPv6.15.20//NONSGML v1.0//EN
CALSCALE:GREGORIAN
METHOD:PUBLISH
X-ORIGINAL-URL:http://polkcountylgbta.org
X-WR-CALDESC:Events for Rainbow Ridge
REFRESH-INTERVAL;VALUE=DURATION:PT1H
X-Robots-Tag:noindex
X-PUBLISHED-TTL:PT1H
BEGIN:VTIMEZONE
TZID:America/New_York
BEGIN:DAYLIGHT
TZOFFSETFROM:-0500
TZOFFSETTO:-0400
TZNAME:EDT
DTSTART:20240310T070000
END:DAYLIGHT
BEGIN:STANDARD
TZOFFSETFROM:-0400
TZOFFSETTO:-0500
TZNAME:EST
DTSTART:20241103T060000
END:STANDARD
BEGIN:DAYLIGHT
TZOFFSETFROM:-0500
TZOFFSETTO:-0400
TZNAME:EDT
DTSTART:20250309T070000
END:DAYLIGHT
BEGIN:STANDARD
TZOFFSETFROM:-0400
TZOFFSETTO:-0500
TZNAME:EST
DTSTART:20251102T060000
END:STANDARD
BEGIN:DAYLIGHT
TZOFFSETFROM:-0500
TZOFFSETTO:-0400
TZNAME:EDT
DTSTART:20260308T070000
END:DAYLIGHT
BEGIN:STANDARD
TZOFFSETFROM:-0400
TZOFFSETTO:-0500
TZNAME:EST
DTSTART:20261101T060000
END:STANDARD
END:VTIMEZONE
BEGIN:VEVENT
DTSTART;TZID=America/New_York:20250601T163000
DTEND;TZID=America/New_York:20250601T190000
DTSTAMP:20260425T145725
CREATED:20250510T010531Z
LAST-MODIFIED:20250510T010531Z
UID:1450-1748795400-1748804400@polkcountylgbta.org
SUMMARY:Kickoff to Pride Month - The Rainbow Potluck @ Rose Dynasty Center\, 1253 West Memorial Blvd\, Lakeland\, June 1st\, 4:30 to 7pm
DESCRIPTION:Come join us June 1st as we celebrate Pride Month with a Potluck at Rose Dynasty Center\,1253 West Memorial Blvd\, Lakeland 4:30 to 7pm.  \nBring your favorite dish to share.  \nFood\, Fun And Door Prizes
URL:http://polkcountylgbta.org/event/kickoff-to-pride-month-the-rainbow-potluck-rose-dynasty-center-1253-west-memorial-blvd-lakeland-june-1st-430-to-7pm
LOCATION:Rose Dynasty Center\, 1253 West Memorial Blvd\, Lakeland\, Florida\, 33815
ORGANIZER;CN="Rainbow Ridge LGBTA Democratic Caucus":MAILTO:jjacopelle@comcast.net
END:VEVENT
END:VCALENDAR