BEGIN:VCALENDAR
VERSION:2.0
PRODID:-//Rainbow Ridge - ECPv6.15.20//NONSGML v1.0//EN
CALSCALE:GREGORIAN
METHOD:PUBLISH
X-WR-CALNAME:Rainbow Ridge
X-ORIGINAL-URL:http://polkcountylgbta.org
X-WR-CALDESC:Events for Rainbow Ridge
REFRESH-INTERVAL;VALUE=DURATION:PT1H
X-Robots-Tag:noindex
X-PUBLISHED-TTL:PT1H
BEGIN:VTIMEZONE
TZID:America/New_York
BEGIN:DAYLIGHT
TZOFFSETFROM:-0500
TZOFFSETTO:-0400
TZNAME:EDT
DTSTART:20240310T070000
END:DAYLIGHT
BEGIN:STANDARD
TZOFFSETFROM:-0400
TZOFFSETTO:-0500
TZNAME:EST
DTSTART:20241103T060000
END:STANDARD
BEGIN:DAYLIGHT
TZOFFSETFROM:-0500
TZOFFSETTO:-0400
TZNAME:EDT
DTSTART:20250309T070000
END:DAYLIGHT
BEGIN:STANDARD
TZOFFSETFROM:-0400
TZOFFSETTO:-0500
TZNAME:EST
DTSTART:20251102T060000
END:STANDARD
BEGIN:DAYLIGHT
TZOFFSETFROM:-0500
TZOFFSETTO:-0400
TZNAME:EDT
DTSTART:20260308T070000
END:DAYLIGHT
BEGIN:STANDARD
TZOFFSETFROM:-0400
TZOFFSETTO:-0500
TZNAME:EST
DTSTART:20261101T060000
END:STANDARD
END:VTIMEZONE
BEGIN:VEVENT
DTSTART;TZID=America/New_York:20250911T183000
DTEND;TZID=America/New_York:20250911T203000
DTSTAMP:20260425T091756
CREATED:20250904T195000Z
LAST-MODIFIED:20250904T195133Z
UID:1845-1757615400-1757622600@polkcountylgbta.org
SUMMARY:Rainbow Ridge LGBTA Democratic Caucus  Social and Meeting  September 11th\, 2025\, Thursday  at IHOP\, 8550 Ridge Way\,  Lake Wales\, FL 33853  6:30pm - 8:30pm
DESCRIPTION:Please Join Us for our Rainbow Ridge LGBTA Democratic Caucus Social and Meeting  \nSeptember 11th\, 2025\, Thursday at IHOP\, 8550 Ridge Way\, Lake Wales\, FL 33853  \n6:30pm – 8:30pm  \nGuest Speaker: Jo Shim\, President of the Lakeland League of Women Voters \nTopic: What LWV is focusing on with all the threats this administration is making against our voting rights.
URL:http://polkcountylgbta.org/event/rainbow-ridge-lgbta-democratic-caucus-social-and-meeting-september-11th-2025-thursday-at-ihop-8550-ridge-way-lake-wales-fl-33853-630pm-830pm
LOCATION:IHOP 8550 Ridge Way Lake Wales FL 33853\, 8550 Ridge Way\, Lake Wales\, 33853\, United States
ORGANIZER;CN="Rainbow Ridge LGBTA Democratic Caucus":MAILTO:jjacopelle@comcast.net
END:VEVENT
END:VCALENDAR