BEGIN:VCALENDAR
VERSION:2.0
PRODID:-//Rainbow Ridge - ECPv6.15.20//NONSGML v1.0//EN
CALSCALE:GREGORIAN
METHOD:PUBLISH
X-ORIGINAL-URL:http://polkcountylgbta.org
X-WR-CALDESC:Events for Rainbow Ridge
REFRESH-INTERVAL;VALUE=DURATION:PT1H
X-Robots-Tag:noindex
X-PUBLISHED-TTL:PT1H
BEGIN:VTIMEZONE
TZID:America/New_York
BEGIN:DAYLIGHT
TZOFFSETFROM:-0500
TZOFFSETTO:-0400
TZNAME:EDT
DTSTART:20240310T070000
END:DAYLIGHT
BEGIN:STANDARD
TZOFFSETFROM:-0400
TZOFFSETTO:-0500
TZNAME:EST
DTSTART:20241103T060000
END:STANDARD
BEGIN:DAYLIGHT
TZOFFSETFROM:-0500
TZOFFSETTO:-0400
TZNAME:EDT
DTSTART:20250309T070000
END:DAYLIGHT
BEGIN:STANDARD
TZOFFSETFROM:-0400
TZOFFSETTO:-0500
TZNAME:EST
DTSTART:20251102T060000
END:STANDARD
BEGIN:DAYLIGHT
TZOFFSETFROM:-0500
TZOFFSETTO:-0400
TZNAME:EDT
DTSTART:20260308T070000
END:DAYLIGHT
BEGIN:STANDARD
TZOFFSETFROM:-0400
TZOFFSETTO:-0500
TZNAME:EST
DTSTART:20261101T060000
END:STANDARD
END:VTIMEZONE
BEGIN:VEVENT
DTSTART;TZID=America/New_York:20251211T173000
DTEND;TZID=America/New_York:20251211T203000
DTSTAMP:20260419T143656
CREATED:20251017T143844Z
LAST-MODIFIED:20251017T143932Z
UID:2001-1765474200-1765485000@polkcountylgbta.org
SUMMARY:Polk County Democrats Holiday Party at Tapatio's\, 734 E. Memorial Blvd\, Lakeland\, December 11\, 2025\, Party starts at 5:30pm
DESCRIPTION:POLK COUNTY DEMOCRATS \nCome Celebrate in Spirit of the Season our Annual Holiday Party\,  December 11\, 2025\, Thursday\, at Tapatio’s Mexican Restaurant\, 734 E. Memorial Blvd. Lakeland\, FL \nParty Hours are 5:30pm to 8:30pm \n(Order off the menu at your cost) \nPLEASE RSVP BY DECEMBER 5TH TO\nRainbowinfo@yahoo.com \nWe will once again be collecting new\, unwrapped toys for the Rudolph Roundup Toy Drive through Heartland for Children. \n 
URL:http://polkcountylgbta.org/event/polk-county-democrats-holiday-party-at-tapatios-734-e-memorial-blvd-lakeland-december-11-2025-party-starts-at-530pm
LOCATION:Tapatio’s Mexican Restaurant\, 734 E. Memorial Blvd\, Lakeland\, FL\, 33801\, United States
ORGANIZER;CN="Rainbow Ridge LGBTA Democratic Caucus":MAILTO:jjacopelle@comcast.net
END:VEVENT
END:VCALENDAR