BEGIN:VCALENDAR
VERSION:2.0
PRODID:-//Rainbow Ridge - ECPv6.15.20//NONSGML v1.0//EN
CALSCALE:GREGORIAN
METHOD:PUBLISH
X-WR-CALNAME:Rainbow Ridge
X-ORIGINAL-URL:http://polkcountylgbta.org
X-WR-CALDESC:Events for Rainbow Ridge
REFRESH-INTERVAL;VALUE=DURATION:PT1H
X-Robots-Tag:noindex
X-PUBLISHED-TTL:PT1H
BEGIN:VTIMEZONE
TZID:America/New_York
BEGIN:DAYLIGHT
TZOFFSETFROM:-0500
TZOFFSETTO:-0400
TZNAME:EDT
DTSTART:20240310T070000
END:DAYLIGHT
BEGIN:STANDARD
TZOFFSETFROM:-0400
TZOFFSETTO:-0500
TZNAME:EST
DTSTART:20241103T060000
END:STANDARD
BEGIN:DAYLIGHT
TZOFFSETFROM:-0500
TZOFFSETTO:-0400
TZNAME:EDT
DTSTART:20250309T070000
END:DAYLIGHT
BEGIN:STANDARD
TZOFFSETFROM:-0400
TZOFFSETTO:-0500
TZNAME:EST
DTSTART:20251102T060000
END:STANDARD
BEGIN:DAYLIGHT
TZOFFSETFROM:-0500
TZOFFSETTO:-0400
TZNAME:EDT
DTSTART:20260308T070000
END:DAYLIGHT
BEGIN:STANDARD
TZOFFSETFROM:-0400
TZOFFSETTO:-0500
TZNAME:EST
DTSTART:20261101T060000
END:STANDARD
END:VTIMEZONE
BEGIN:VEVENT
DTSTART;TZID=America/New_York:20250313T183000
DTEND;TZID=America/New_York:20250313T203000
DTSTAMP:20260425T181646
CREATED:20250221T023651Z
LAST-MODIFIED:20250305T220515Z
UID:1165-1741890600-1741897800@polkcountylgbta.org
SUMMARY:Rainbow Ridge LGBTA Democrat Caucus March 13th\, Thursday Meeting @ Beef O'Brady's 4810 S Florida Ave\, Lakeland\, FL 33813\, 6:30pm -8:30pm Guest Speaker School Board Candidate Victor Sims
DESCRIPTION:Our March Meeting will be held on Thursday the 13th at Beef O’Brady’s in South Lakeland\, FL 6:30 pm to 8:30pm \nGuest Speaker Victor Sims School Board Candidate
URL:http://polkcountylgbta.org/event/rainbow-ridge-lgbta-democrat-caucus-march-13th-thursday-meeting-beef-obradys-4810-s-florida-ave-lakeland-fl-33813-630pm-830pm-guest-speaker-tba
LOCATION:Beef O’Brady’s\, 4810 S Florida Ave\, Lakeland\, FL\, 33813\, United States
ORGANIZER;CN="Rainbow Ridge LGBTA Democratic Caucus":MAILTO:jjacopelle@comcast.net
END:VEVENT
END:VCALENDAR