BEGIN:VCALENDAR
VERSION:2.0
PRODID:-//Rainbow Ridge - ECPv6.15.20//NONSGML v1.0//EN
CALSCALE:GREGORIAN
METHOD:PUBLISH
X-ORIGINAL-URL:http://polkcountylgbta.org
X-WR-CALDESC:Events for Rainbow Ridge
REFRESH-INTERVAL;VALUE=DURATION:PT1H
X-Robots-Tag:noindex
X-PUBLISHED-TTL:PT1H
BEGIN:VTIMEZONE
TZID:America/New_York
BEGIN:DAYLIGHT
TZOFFSETFROM:-0500
TZOFFSETTO:-0400
TZNAME:EDT
DTSTART:20240310T070000
END:DAYLIGHT
BEGIN:STANDARD
TZOFFSETFROM:-0400
TZOFFSETTO:-0500
TZNAME:EST
DTSTART:20241103T060000
END:STANDARD
BEGIN:DAYLIGHT
TZOFFSETFROM:-0500
TZOFFSETTO:-0400
TZNAME:EDT
DTSTART:20250309T070000
END:DAYLIGHT
BEGIN:STANDARD
TZOFFSETFROM:-0400
TZOFFSETTO:-0500
TZNAME:EST
DTSTART:20251102T060000
END:STANDARD
BEGIN:DAYLIGHT
TZOFFSETFROM:-0500
TZOFFSETTO:-0400
TZNAME:EDT
DTSTART:20260308T070000
END:DAYLIGHT
BEGIN:STANDARD
TZOFFSETFROM:-0400
TZOFFSETTO:-0500
TZNAME:EST
DTSTART:20261101T060000
END:STANDARD
END:VTIMEZONE
BEGIN:VEVENT
DTSTART;TZID=America/New_York:20250410T183000
DTEND;TZID=America/New_York:20250410T203000
DTSTAMP:20260425T164157
CREATED:20250315T003536Z
LAST-MODIFIED:20250325T200518Z
UID:1338-1744309800-1744317000@polkcountylgbta.org
SUMMARY:Rainbow Ridge LGBTA Democrat Caucus Meeting\, April 10\, 2025 at 6:30pm  Beef O'Brady's\, 300 Cypress Gardens Blvd\, Winter Haven\, FL 33880 - Guest Speakers Karen Welzel of the Democratic Public Education Caucus of Polk County and Matthew Crowley\, Candidate for Winter Haven City Commission and President of the Polk County Young Democrats.   
DESCRIPTION:General Membership meeting scheduled for Thursday April 10\, 2025\nMeeting will take place at 6:30 PM at Beef O’Brady’s\, in Winter Haven at 300 Cypress Gardens Blvd.. \nGuest Speakers Karen Welzel of the Democratic Public Education Caucus of Polk County and Matthew Crowley\, Candidate for Winter Haven City Commission and President of the Polk County Young Democrats 
URL:http://polkcountylgbta.org/event/rainbow-ridge-lgbta-democrat-caucus-meeting-april-10-2025-at-630pm-beef-obradys-300-cypress-gardens-blvd-winter-haven-fl-33880-guest-speaker-tba
LOCATION:Beef O’Brady’s\,  300 Cypress Gardens Blvd\, Winter Haven\, FL 33880
ORGANIZER;CN="Rainbow Ridge LGBTA Democratic Caucus":MAILTO:jjacopelle@comcast.net
END:VEVENT
END:VCALENDAR