BEGIN:VCALENDAR
VERSION:2.0
PRODID:-//Rainbow Ridge - ECPv6.15.20//NONSGML v1.0//EN
CALSCALE:GREGORIAN
METHOD:PUBLISH
X-WR-CALNAME:Rainbow Ridge
X-ORIGINAL-URL:http://polkcountylgbta.org
X-WR-CALDESC:Events for Rainbow Ridge
REFRESH-INTERVAL;VALUE=DURATION:PT1H
X-Robots-Tag:noindex
X-PUBLISHED-TTL:PT1H
BEGIN:VTIMEZONE
TZID:America/New_York
BEGIN:DAYLIGHT
TZOFFSETFROM:-0500
TZOFFSETTO:-0400
TZNAME:EDT
DTSTART:20240310T070000
END:DAYLIGHT
BEGIN:STANDARD
TZOFFSETFROM:-0400
TZOFFSETTO:-0500
TZNAME:EST
DTSTART:20241103T060000
END:STANDARD
BEGIN:DAYLIGHT
TZOFFSETFROM:-0500
TZOFFSETTO:-0400
TZNAME:EDT
DTSTART:20250309T070000
END:DAYLIGHT
BEGIN:STANDARD
TZOFFSETFROM:-0400
TZOFFSETTO:-0500
TZNAME:EST
DTSTART:20251102T060000
END:STANDARD
BEGIN:DAYLIGHT
TZOFFSETFROM:-0500
TZOFFSETTO:-0400
TZNAME:EDT
DTSTART:20260308T070000
END:DAYLIGHT
BEGIN:STANDARD
TZOFFSETFROM:-0400
TZOFFSETTO:-0500
TZNAME:EST
DTSTART:20261101T060000
END:STANDARD
END:VTIMEZONE
BEGIN:VEVENT
DTSTART;TZID=America/New_York:20250508T183000
DTEND;TZID=America/New_York:20250508T203000
DTSTAMP:20260425T145729
CREATED:20250430T010402Z
LAST-MODIFIED:20250430T010635Z
UID:1444-1746729000-1746736200@polkcountylgbta.org
SUMMARY:Rainbow Ridge LGBTA Democrat Caucus Meeting\, May 8\, 2025 at 6:30pm  IHOP\, 2850 Ridge Way\, Lake  Wales\, FL 33859 - Guest Speaker – Luis Davila\, Candidate for Florida House District 48.
DESCRIPTION:Luis is a problem-solver\, a dedicated community advocate\, and a firm believer in the potential of District 48.  He will focus on building a district where every resident has the opportunity to thrive\, where neighborhoods are safe and vibrant\, and where our children have access to the resources they need to succeed. \nTop Issues Luis Will Fight For! \nWork with the department of Education\, Get Our Public Schools Funded! Expand Medicare and Medicaid For Our Senior Citizens and Low-Income Families. Fight with Insurance Companies to Lower Premiums for Our Homeowners. Investing in infrastructure projects\, which can create jobs and improve the overall quality of life. Protecting natural resources\, including water quality\, air quality\, and wildlife habitats. Increase Funding for Affordable Housing Programs\, Protect our renters\, pathway to homeownership! Advocate for our Veterans and increase funding for our VA! Women’s rights\, Pro-Choice!
URL:http://polkcountylgbta.org/event/rainbow-ridge-lgbta-democrat-caucus-meeting-may-8-2025-at-630pm-ihop-2850-ridge-way-lake-wales-fl-33859-guest-speaker-luis-davila-candidate-for-florida-house-district-48
LOCATION:IHOP\, 2850 Ridge Way\, Lake Wales\, FL\, 33859\, United States
ORGANIZER;CN="Rainbow Ridge LGBTA Democratic Caucus":MAILTO:jjacopelle@comcast.net
END:VEVENT
END:VCALENDAR