BEGIN:VCALENDAR
VERSION:2.0
PRODID:-//Rainbow Ridge - ECPv6.15.20//NONSGML v1.0//EN
CALSCALE:GREGORIAN
METHOD:PUBLISH
X-WR-CALNAME:Rainbow Ridge
X-ORIGINAL-URL:http://polkcountylgbta.org
X-WR-CALDESC:Events for Rainbow Ridge
REFRESH-INTERVAL;VALUE=DURATION:PT1H
X-Robots-Tag:noindex
X-PUBLISHED-TTL:PT1H
BEGIN:VTIMEZONE
TZID:America/New_York
BEGIN:DAYLIGHT
TZOFFSETFROM:-0500
TZOFFSETTO:-0400
TZNAME:EDT
DTSTART:20240310T070000
END:DAYLIGHT
BEGIN:STANDARD
TZOFFSETFROM:-0400
TZOFFSETTO:-0500
TZNAME:EST
DTSTART:20241103T060000
END:STANDARD
BEGIN:DAYLIGHT
TZOFFSETFROM:-0500
TZOFFSETTO:-0400
TZNAME:EDT
DTSTART:20250309T070000
END:DAYLIGHT
BEGIN:STANDARD
TZOFFSETFROM:-0400
TZOFFSETTO:-0500
TZNAME:EST
DTSTART:20251102T060000
END:STANDARD
BEGIN:DAYLIGHT
TZOFFSETFROM:-0500
TZOFFSETTO:-0400
TZNAME:EDT
DTSTART:20260308T070000
END:DAYLIGHT
BEGIN:STANDARD
TZOFFSETFROM:-0400
TZOFFSETTO:-0500
TZNAME:EST
DTSTART:20261101T060000
END:STANDARD
END:VTIMEZONE
BEGIN:VEVENT
DTSTART;TZID=America/New_York:20250710T183000
DTEND;TZID=America/New_York:20250710T203000
DTSTAMP:20260425T113804
CREATED:20250629T142220Z
LAST-MODIFIED:20250629T144033Z
UID:1775-1752172200-1752179400@polkcountylgbta.org
SUMMARY:Rainbow Ridge LGBTA Democratic Caucus July 10th\, 2025\, Thursday Meeting @ Beef O'Brady's 4810 S Florida Ave\, Lakeland\, FL 33813\, 6:30pm -8:30pm Guest Speaker: Equality Florida\, Field and Advocacy Manager/Community Organizer\, Anita Carson
DESCRIPTION:Rainbow Ridge LGBTA Democrat Caucus July 10th\, 2025\, Thursday Meeting @ Beef O’Brady’s 4810 S Florida Ave\, Lakeland\, FL 33813\, 6:30pm -8:30pm \nGuest Speaker: Anita Carson \nAnita Carson is the Field and Advocacy Manager/Community Organizer for the largest civil rights organization in Florida\, Equality Florida. It is dedicated to securing full equality for FL’s LGBTQ community. \nCome and learn what is happening politically in Florida as it pertains to our lives.  \n 
URL:http://polkcountylgbta.org/event/rainbow-ridge-lgbta-democrat-caucus-july-10th-2025-thursday-meeting-beef-obradys-4810-s-florida-ave-lakeland-fl-33813-630pm-830pm-guest-speaker-equality-florida-field-and-advocacy-mana
LOCATION:Beef O’Brady’s\, 4810 S. Florida Ave\, Lakeland\, FL\, 33813\, United States
ORGANIZER;CN="Rainbow Ridge LGBTA Democratic Caucus":MAILTO:jjacopelle@comcast.net
END:VEVENT
END:VCALENDAR