BEGIN:VCALENDAR
VERSION:2.0
PRODID:-//Rainbow Ridge - ECPv6.15.20//NONSGML v1.0//EN
CALSCALE:GREGORIAN
METHOD:PUBLISH
X-ORIGINAL-URL:http://polkcountylgbta.org
X-WR-CALDESC:Events for Rainbow Ridge
REFRESH-INTERVAL;VALUE=DURATION:PT1H
X-Robots-Tag:noindex
X-PUBLISHED-TTL:PT1H
BEGIN:VTIMEZONE
TZID:America/New_York
BEGIN:DAYLIGHT
TZOFFSETFROM:-0500
TZOFFSETTO:-0400
TZNAME:EDT
DTSTART:20240310T070000
END:DAYLIGHT
BEGIN:STANDARD
TZOFFSETFROM:-0400
TZOFFSETTO:-0500
TZNAME:EST
DTSTART:20241103T060000
END:STANDARD
BEGIN:DAYLIGHT
TZOFFSETFROM:-0500
TZOFFSETTO:-0400
TZNAME:EDT
DTSTART:20250309T070000
END:DAYLIGHT
BEGIN:STANDARD
TZOFFSETFROM:-0400
TZOFFSETTO:-0500
TZNAME:EST
DTSTART:20251102T060000
END:STANDARD
BEGIN:DAYLIGHT
TZOFFSETFROM:-0500
TZOFFSETTO:-0400
TZNAME:EDT
DTSTART:20260308T070000
END:DAYLIGHT
BEGIN:STANDARD
TZOFFSETFROM:-0400
TZOFFSETTO:-0500
TZNAME:EST
DTSTART:20261101T060000
END:STANDARD
END:VTIMEZONE
BEGIN:VEVENT
DTSTART;TZID=America/New_York:20250805T180000
DTEND;TZID=America/New_York:20250805T210000
DTSTAMP:20260425T093906
CREATED:20250724T000441Z
LAST-MODIFIED:20250724T000441Z
UID:1809-1754416800-1754427600@polkcountylgbta.org
SUMMARY:I-4 Corridor Community Forum Townhall Guest Speaker David Jolly and Billy Townsend August 5 6pm -9pm at Polk Theater
DESCRIPTION:I-4 Corridor Community Forum Townhall Guest Speaker David Jolly and Billy Townsend August 5 6pm -9pm at Polk Theater\, 121 South Florida Ave\, Lakeland FL 33801 Register onthe website – Mobilize.us 
URL:http://polkcountylgbta.org/event/i-4-corridor-community-forum-townhall-guest-speaker-david-jolly-and-billy-townsend-august-5-6pm-9pm-at-polk-theater
LOCATION:Polk Theater\, 121 South Florida Ave\, Lakeland\, FL\, 33801\, United States
END:VEVENT
BEGIN:VEVENT
DTSTART;TZID=America/New_York:20250814T183000
DTEND;TZID=America/New_York:20250814T203000
DTSTAMP:20260425T093906
CREATED:20250724T001027Z
LAST-MODIFIED:20250802T143159Z
UID:1815-1755196200-1755203400@polkcountylgbta.org
SUMMARY:Rainbow Ridge August 14\, 2025 Social and Meeting @ Beef O'Brady's 4810 S Florida Ave\, Lakeland\, FL 33813\, 6:30pm -8:30pm Guest Speaker Sarah Fortney ad Victor Sims - Update on Education in Polk County
DESCRIPTION:Rainbow Ridge August 14\, 2025 Social and Meeting @ Beef O’Brady’s 4810 S Florida Ave\, Lakeland\, FL 33813\, 6:30pm -8:30pm \nGuest Speakers; Sarah Fortney and Victor Sims \nStatus Update: Education in Polk County 
URL:http://polkcountylgbta.org/event/rainbow-ridge-august-14-2025-social-and-meeting-location-tba
END:VEVENT
END:VCALENDAR