BEGIN:VCALENDAR
VERSION:2.0
PRODID:-//Rainbow Ridge - ECPv6.15.20//NONSGML v1.0//EN
CALSCALE:GREGORIAN
METHOD:PUBLISH
X-ORIGINAL-URL:http://polkcountylgbta.org
X-WR-CALDESC:Events for Rainbow Ridge
REFRESH-INTERVAL;VALUE=DURATION:PT1H
X-Robots-Tag:noindex
X-PUBLISHED-TTL:PT1H
BEGIN:VTIMEZONE
TZID:America/New_York
BEGIN:DAYLIGHT
TZOFFSETFROM:-0500
TZOFFSETTO:-0400
TZNAME:EDT
DTSTART:20250309T070000
END:DAYLIGHT
BEGIN:STANDARD
TZOFFSETFROM:-0400
TZOFFSETTO:-0500
TZNAME:EST
DTSTART:20251102T060000
END:STANDARD
BEGIN:DAYLIGHT
TZOFFSETFROM:-0500
TZOFFSETTO:-0400
TZNAME:EDT
DTSTART:20260308T070000
END:DAYLIGHT
BEGIN:STANDARD
TZOFFSETFROM:-0400
TZOFFSETTO:-0500
TZNAME:EST
DTSTART:20261101T060000
END:STANDARD
BEGIN:DAYLIGHT
TZOFFSETFROM:-0500
TZOFFSETTO:-0400
TZNAME:EDT
DTSTART:20270314T070000
END:DAYLIGHT
BEGIN:STANDARD
TZOFFSETFROM:-0400
TZOFFSETTO:-0500
TZNAME:EST
DTSTART:20271107T060000
END:STANDARD
END:VTIMEZONE
BEGIN:VEVENT
DTSTART;TZID=America/New_York:20260212T183000
DTEND;TZID=America/New_York:20260212T203000
DTSTAMP:20260419T102833
CREATED:20260121T233457Z
LAST-MODIFIED:20260121T233609Z
UID:2182-1770921000-1770928200@polkcountylgbta.org
SUMMARY:Rainbow Ridge Social and General Meeting February 12\, 2026\, 6:30pm\, at Fred's Market Restaurant\,2120 Harden Blvd\, Lakeland\, FL 33803.Guest Speaker Edwin Perez\, Candidate for House Seat 51
DESCRIPTION:Rainbow Ridge Social and General Meeting February 12\, 2026\, 6:30pm\, at Fred’s Market Restaurant\, 2120 Harden Blvd\, Lakeland\, FL 33803 \nGuest Speaker Edwin Perez\, Candidate for House Seat 51
URL:http://polkcountylgbta.org/event/rainbow-ridge-social-and-general-meeting-february-12-2026-630pm-at-freds-market-restaurant2120-harden-blvd-lakeland-fl-33803
LOCATION:Fred’s Market Restaurant\, 2120 Harden Blvd\, Lakeland\, FL\, 33803\, United States
ORGANIZER;CN="Rainbow Ridge LGBTA Democratic Caucus":MAILTO:jjacopelle@comcast.net
END:VEVENT
END:VCALENDAR